BEGIN:VCALENDAR
VERSION:2.0
PRODID:-//White Willow Partners - ECPv6.8.2.1//NONSGML v1.0//EN
CALSCALE:GREGORIAN
METHOD:PUBLISH
X-WR-CALNAME:White Willow Partners
X-ORIGINAL-URL:https://whitewillowpartners.com
X-WR-CALDESC:Events for White Willow Partners
REFRESH-INTERVAL;VALUE=DURATION:PT1H
X-Robots-Tag:noindex
X-PUBLISHED-TTL:PT1H
BEGIN:VTIMEZONE
TZID:Europe/London
BEGIN:DAYLIGHT
TZOFFSETFROM:+0000
TZOFFSETTO:+0100
TZNAME:BST
DTSTART:20230326T010000
END:DAYLIGHT
BEGIN:STANDARD
TZOFFSETFROM:+0100
TZOFFSETTO:+0000
TZNAME:GMT
DTSTART:20231029T010000
END:STANDARD
END:VTIMEZONE
BEGIN:VEVENT
DTSTART;TZID=Europe/London:20230605T090000
DTEND;TZID=Europe/London:20230605T113000
DTSTAMP:20260423T221540
CREATED:20230112T133332Z
LAST-MODIFIED:20230308T091959Z
UID:1735-1685955600-1685964600@whitewillowpartners.com
SUMMARY:First Aid for Mental Health Workshop - Online
DESCRIPTION:White Willow Partners in association with Nuco Training are pleased to offer Mental Health First Aid accredited learning workshops providing learners with the knowledge and skills needed to act should a condition be suspected. \nNuco is the largest combined network of First Aid\, First Aid for Mental Health\, Health and Safety and Food Safety instructors. \nThis level 2 training programme provides an approved accreditation (achieved via assessment) that is valid for three years. \nThis workshop gives learners: \n\nAn introduction to the First Aid for Mental Health Action Plan\nUnderstanding of a wide range of mental health conditions\nThe confidence to start a conversation\nThe experience to offer suggestions in self-management\, or\, signposting to mental health professionals\n\nThe workshop is run over 4 days commencing Monday 5 June from 0900 to 1130 and is run every day excluding the Tuesday.  This is then followed up with assessments on 12/13 June. \nFor further information or to book your place email Kim \n 
URL:https://whitewillowpartners.com/event/first-aid-for-mental-health-workshop-online-4/
LOCATION:Online Session
CATEGORIES:First Aid for Mental Health Workshops
ATTACH;FMTTYPE=image/jpeg:https://whitewillowpartners.com/wp-content/uploads/2022/10/MHFA-4.jpg
ORGANIZER;CN="Carrie White":MAILTO:info@whitewillowpartners.com
END:VEVENT
BEGIN:VEVENT
DTSTART;TZID=Europe/London:20230605T140000
DTEND;TZID=Europe/London:20230605T163000
DTSTAMP:20260423T221540
CREATED:20230308T092131Z
LAST-MODIFIED:20230308T092222Z
UID:1751-1685973600-1685982600@whitewillowpartners.com
SUMMARY:First Aid for Mental Health Workshop - Online
DESCRIPTION:White Willow Partners in association with Nuco Training are pleased to offer Mental Health First Aid accredited learning workshops providing learners with the knowledge and skills needed to act should a condition be suspected. \nNuco is the largest combined network of First Aid\, First Aid for Mental Health\, Health and Safety and Food Safety instructors. \nThis level 2 training programme provides an approved accreditation (achieved via assessment) that is valid for three years. \nThis workshop gives learners: \n\nAn introduction to the First Aid for Mental Health Action Plan\nUnderstanding of a wide range of mental health conditions\nThe confidence to start a conversation\nThe experience to offer suggestions in self-management\, or\, signposting to mental health professionals\n\nThe workshop is run over 4 days commencing Monday 5 June from 1400 to 1630 and is run every day excluding the Tuesday.  This is then followed up with assessments on 12/13 June. \nFor further information or to book your place email Kim \n 
URL:https://whitewillowpartners.com/event/first-aid-for-mental-health-workshop-online-5/
LOCATION:Online Session
CATEGORIES:First Aid for Mental Health Workshops
ATTACH;FMTTYPE=image/jpeg:https://whitewillowpartners.com/wp-content/uploads/2022/10/Be-the-one-whos-there.jpg
ORGANIZER;CN="Carrie White":MAILTO:info@whitewillowpartners.com
END:VEVENT
END:VCALENDAR