BEGIN:VCALENDAR
VERSION:2.0
PRODID:-//White Willow Partners - ECPv6.8.2.1//NONSGML v1.0//EN
CALSCALE:GREGORIAN
METHOD:PUBLISH
X-WR-CALNAME:White Willow Partners
X-ORIGINAL-URL:https://whitewillowpartners.com
X-WR-CALDESC:Events for White Willow Partners
REFRESH-INTERVAL;VALUE=DURATION:PT1H
X-Robots-Tag:noindex
X-PUBLISHED-TTL:PT1H
BEGIN:VTIMEZONE
TZID:Europe/London
BEGIN:DAYLIGHT
TZOFFSETFROM:+0000
TZOFFSETTO:+0100
TZNAME:BST
DTSTART:20220327T010000
END:DAYLIGHT
BEGIN:STANDARD
TZOFFSETFROM:+0100
TZOFFSETTO:+0000
TZNAME:GMT
DTSTART:20221030T010000
END:STANDARD
END:VTIMEZONE
BEGIN:VEVENT
DTSTART;TZID=Europe/London:20221212T090000
DTEND;TZID=Europe/London:20221212T170000
DTSTAMP:20260424T081439
CREATED:20221003T133130Z
LAST-MODIFIED:20221003T134846Z
UID:1542-1670835600-1670864400@whitewillowpartners.com
SUMMARY:First Aid for Mental Health Workshop - Online
DESCRIPTION:White Willow Partners in association with Nuco Training are pleased to offer Mental Health First Aid accredited learning workshops providing learners with the knowledge and skills needed to act should a condition be suspected. \nNuco is the largest combined network of First Aid\, First Aid for Mental Health\, Health and Safety and Food Safety instructors. \nThis level 2 training programme provides an approved accreditation (achieved via assessment) that is valid for three years. \nThis workshop gives learners: \n\nAn introduction to the First Aid for Mental Health Action Plan\nUnderstanding of a wide range of mental health conditions\nThe confidence to start a conversation\nThe experience to offer suggestions in self-management\, or\, signposting to mental health professionals\n\nFor further information or to book your place email Kim \n 
URL:https://whitewillowpartners.com/event/first-aid-for-mental-health-workshop-online-2/
LOCATION:Online Session
CATEGORIES:First Aid for Mental Health Workshops
ATTACH;FMTTYPE=image/jpeg:https://whitewillowpartners.com/wp-content/uploads/2022/10/Be-the-one-whos-there.jpg
ORGANIZER;CN="Carrie White":MAILTO:info@whitewillowpartners.com
END:VEVENT
BEGIN:VEVENT
DTSTART;TZID=Europe/London:20221215T090000
DTEND;TZID=Europe/London:20221215T170000
DTSTAMP:20260424T081439
CREATED:20221003T134228Z
LAST-MODIFIED:20221003T134329Z
UID:1546-1671094800-1671123600@whitewillowpartners.com
SUMMARY:First Aid for Mental Health Workshop - Online
DESCRIPTION:White Willow Partners in association with Nuco Training are pleased to offer Mental Health First Aid accredited learning workshops providing learners with the knowledge and skills needed to act should a condition be suspected. \nNuco is the largest combined network of First Aid\, First Aid for Mental Health\, Health and Safety and Food Safety instructors. \nThis level 2 training programme provides an approved accreditation (achieved via assessment) that is valid for three years. \nThis workshop gives learners: \n\nAn introduction to the First Aid for Mental Health Action Plan\nUnderstanding of a wide range of mental health conditions\nThe confidence to start a conversation\nThe experience to offer suggestions in self-management\, or\, signposting to mental health professionals\n\nFor further information or to book your place email Kim \n 
URL:https://whitewillowpartners.com/event/first-aid-for-mental-health-workshop-online-3/
LOCATION:Online Session
CATEGORIES:First Aid for Mental Health Workshops
ATTACH;FMTTYPE=image/jpeg:https://whitewillowpartners.com/wp-content/uploads/2022/10/FAFMH.jpg
ORGANIZER;CN="Carrie White":MAILTO:info@whitewillowpartners.com
END:VEVENT
END:VCALENDAR